BEGIN:VCALENDAR
VERSION:2.0
PRODID:-//Formación Proalt - ECPv6.2.9//NONSGML v1.0//EN
CALSCALE:GREGORIAN
METHOD:PUBLISH
X-ORIGINAL-URL:https://formacion.proalt.es
X-WR-CALDESC:Eventos para Formación Proalt
REFRESH-INTERVAL;VALUE=DURATION:PT1H
X-Robots-Tag:noindex
X-PUBLISHED-TTL:PT1H
BEGIN:VTIMEZONE
TZID:Europe/Madrid
BEGIN:DAYLIGHT
TZOFFSETFROM:+0100
TZOFFSETTO:+0200
TZNAME:CEST
DTSTART:20260329T010000
END:DAYLIGHT
BEGIN:STANDARD
TZOFFSETFROM:+0200
TZOFFSETTO:+0100
TZNAME:CET
DTSTART:20261025T010000
END:STANDARD
END:VTIMEZONE
BEGIN:VEVENT
DTSTART;TZID=Europe/Madrid:20260205T080000
DTEND;TZID=Europe/Madrid:20260205T160000
DTSTAMP:20260420T142436
CREATED:20260113T103112Z
LAST-MODIFIED:20260113T113738Z
UID:3126-1770278400-1770307200@formacion.proalt.es
SUMMARY:Formación: Trabajos verticales Nivel I (Clase 1/5) (Murcia)
DESCRIPTION:Curso de Trabajos Verticales Nivel I: Suspensión y posicionamiento con cuerdas (con posibilidad de avalarlo por la UCAM) \nDuración: 40 horas (5 días) \nModalidad: Presencial \nPrograma: Teoría (5h) y Práctica (35h) \nAl finalizar el curso se realiza un examen que acredita el nivel obtenido y se certifica mediante un diploma.
URL:https://formacion.proalt.es/curso/formacion-trabajos-verticales-nivel-i-clase-1-5-murcia/
LOCATION:Proalt Murcia\, Ctra. Mazarrón\, Av. Mercamurcia\, Km. 3\, 1-Nave 13\, 30120 El Palmar\, Murcia\, El Palmar\, Murcia\, 30120
CATEGORIES:Trabajos Verticales
ORGANIZER;CN="Proalt.es":MAILTO:formacion@proalt.es
END:VEVENT
BEGIN:VEVENT
DTSTART;TZID=Europe/Madrid:20260209T080000
DTEND;TZID=Europe/Madrid:20260209T160000
DTSTAMP:20260420T142436
CREATED:20260113T103707Z
LAST-MODIFIED:20260113T103707Z
UID:3129-1770624000-1770652800@formacion.proalt.es
SUMMARY:Formación: Trabajos verticales Nivel I (Clase 2/5) (Murcia)
DESCRIPTION:Curso de Trabajos Verticales Nivel I: Suspensión y posicionamiento con cuerdas (con posibilidad de avalarlo por la UCAM) \nDuración: 40 horas (5 días) \nModalidad: Presencial \nPrograma: Teoría (5h) y Práctica (35h) \nAl finalizar el curso se realiza un examen que acredita el nivel obtenido y se certifica mediante un diploma.
URL:https://formacion.proalt.es/curso/formacion-trabajos-verticales-nivel-i-clase-2-5-murcia/
LOCATION:Proalt Murcia\, Ctra. Mazarrón\, Av. Mercamurcia\, Km. 3\, 1-Nave 13\, 30120 El Palmar\, Murcia\, El Palmar\, Murcia\, 30120
CATEGORIES:Trabajos Verticales
ORGANIZER;CN="Proalt.es":MAILTO:formacion@proalt.es
END:VEVENT
BEGIN:VEVENT
DTSTART;TZID=Europe/Madrid:20260212T080000
DTEND;TZID=Europe/Madrid:20260212T160000
DTSTAMP:20260420T142436
CREATED:20260113T103727Z
LAST-MODIFIED:20260113T103727Z
UID:3132-1770883200-1770912000@formacion.proalt.es
SUMMARY:Formación: Trabajos verticales Nivel I (Clase 3/5) (Murcia)
DESCRIPTION:Curso de Trabajos Verticales Nivel I: Suspensión y posicionamiento con cuerdas (con posibilidad de avalarlo por la UCAM) \nDuración: 40 horas (5 días) \nModalidad: Presencial \nPrograma: Teoría (5h) y Práctica (35h) \nAl finalizar el curso se realiza un examen que acredita el nivel obtenido y se certifica mediante un diploma.
URL:https://formacion.proalt.es/curso/formacion-trabajos-verticales-nivel-i-clase-3-5-murcia-2/
LOCATION:Proalt Murcia\, Ctra. Mazarrón\, Av. Mercamurcia\, Km. 3\, 1-Nave 13\, 30120 El Palmar\, Murcia\, El Palmar\, Murcia\, 30120
CATEGORIES:Trabajos Verticales
ORGANIZER;CN="Proalt.es":MAILTO:formacion@proalt.es
END:VEVENT
BEGIN:VEVENT
DTSTART;TZID=Europe/Madrid:20260216T080000
DTEND;TZID=Europe/Madrid:20260216T160000
DTSTAMP:20260420T142436
CREATED:20260113T103429Z
LAST-MODIFIED:20260113T103429Z
UID:3134-1771228800-1771257600@formacion.proalt.es
SUMMARY:Formación: Trabajos verticales Nivel I (Clase 4/5) (Murcia)
DESCRIPTION:Curso de Trabajos Verticales Nivel I: Suspensión y posicionamiento con cuerdas (con posibilidad de avalarlo por la UCAM) \nDuración: 40 horas (5 días) \nModalidad: Presencial \nPrograma: Teoría (5h) y Práctica (35h) \nAl finalizar el curso se realiza un examen que acredita el nivel obtenido y se certifica mediante un diploma.
URL:https://formacion.proalt.es/curso/formacion-trabajos-verticales-nivel-i-clase-4-5-murcia/
LOCATION:Proalt Murcia\, Ctra. Mazarrón\, Av. Mercamurcia\, Km. 3\, 1-Nave 13\, 30120 El Palmar\, Murcia\, El Palmar\, Murcia\, 30120
CATEGORIES:Trabajos Verticales
ORGANIZER;CN="Proalt.es":MAILTO:formacion@proalt.es
END:VEVENT
BEGIN:VEVENT
DTSTART;TZID=Europe/Madrid:20260219T080000
DTEND;TZID=Europe/Madrid:20260219T160000
DTSTAMP:20260420T142436
CREATED:20260113T103454Z
LAST-MODIFIED:20260113T103454Z
UID:3137-1771488000-1771516800@formacion.proalt.es
SUMMARY:Formación: Trabajos verticales Nivel I (Clase 5/5) (Murcia)
DESCRIPTION:Curso de Trabajos Verticales Nivel I: Suspensión y posicionamiento con cuerdas (con posibilidad de avalarlo por la UCAM) \nDuración: 40 horas (5 días) \nModalidad: Presencial \nPrograma: Teoría (5h) y Práctica (35h) \nAl finalizar el curso se realiza un examen que acredita el nivel obtenido y se certifica mediante un diploma.
URL:https://formacion.proalt.es/curso/formacion-trabajos-verticales-nivel-i-clase-1-5-murcia-2/
LOCATION:Proalt Murcia\, Ctra. Mazarrón\, Av. Mercamurcia\, Km. 3\, 1-Nave 13\, 30120 El Palmar\, Murcia\, El Palmar\, Murcia\, 30120
CATEGORIES:Trabajos Verticales
ORGANIZER;CN="Proalt.es":MAILTO:formacion@proalt.es
END:VEVENT
END:VCALENDAR