BEGIN:VCALENDAR
VERSION:2.0
PRODID:-//Formación Proalt - ECPv6.2.9//NONSGML v1.0//EN
CALSCALE:GREGORIAN
METHOD:PUBLISH
X-WR-CALNAME:Formación Proalt
X-ORIGINAL-URL:https://formacion.proalt.es
X-WR-CALDESC:Eventos para Formación Proalt
REFRESH-INTERVAL;VALUE=DURATION:PT1H
X-Robots-Tag:noindex
X-PUBLISHED-TTL:PT1H
BEGIN:VTIMEZONE
TZID:Europe/Madrid
BEGIN:DAYLIGHT
TZOFFSETFROM:+0100
TZOFFSETTO:+0200
TZNAME:CEST
DTSTART:20260329T010000
END:DAYLIGHT
BEGIN:STANDARD
TZOFFSETFROM:+0200
TZOFFSETTO:+0100
TZNAME:CET
DTSTART:20261025T010000
END:STANDARD
END:VTIMEZONE
BEGIN:VEVENT
DTSTART;TZID=Europe/Madrid:20260128T080000
DTEND;TZID=Europe/Madrid:20260128T160000
DTSTAMP:20260420T182220
CREATED:20250523T082515Z
LAST-MODIFIED:20260113T113613Z
UID:2656-1769587200-1769616000@formacion.proalt.es
SUMMARY:Formación: Trabajos en Altura para Técnicos y PRL (Madrid)
DESCRIPTION:Curso de formación en Trabajos en Altura para Técnicos y PRL \nDuración: 8 horas \nModalidad: Presencial \nPrograma: Teoría (4h) y Práctica (4h) \nAl finalizar el curso se realiza un examen que acredita el nivel obtenido y se certifica mediante un diploma.
URL:https://formacion.proalt.es/curso/formacion-trabajos-en-altura-para-tecnicos-y-prl-madrid-2-2-4/
LOCATION:Proalt Madrid\, Calle Cerrajeros\, 12\, Villaviciosa de Odón\, Madrid\, 28670\, España
CATEGORIES:Trabajos en Altura
ORGANIZER;CN="Proalt.es":MAILTO:formacion@proalt.es
END:VEVENT
BEGIN:VEVENT
DTSTART;TZID=Europe/Madrid:20260128T080000
DTEND;TZID=Europe/Madrid:20260128T160000
DTSTAMP:20260420T182220
CREATED:20250801T110036Z
LAST-MODIFIED:20260113T113623Z
UID:2868-1769587200-1769616000@formacion.proalt.es
SUMMARY:Formación: Seguridad para Trabajos en Altura (Madrid)
DESCRIPTION:Curso de formación de Seguridad para Trabajos en Altura \nDuración: 8 horas \nModalidad: Presencial \nPrograma: Teoría (4h) y Práctica (4h) \nAl finalizar el curso se realiza un examen que acredita el nivel obtenido y se certifica mediante un diploma.
URL:https://formacion.proalt.es/curso/formacion-seguridad-para-trabajos-en-altura-madrid-2-2-2-2-2-2-2-2-2-4-2-2-2-6/
LOCATION:Proalt Madrid\, Calle Cerrajeros\, 12\, Villaviciosa de Odón\, Madrid\, 28670\, España
CATEGORIES:Trabajos en Altura
ORGANIZER;CN="Proalt.es":MAILTO:formacion@proalt.es
END:VEVENT
END:VCALENDAR