BEGIN:VCALENDAR
VERSION:2.0
PRODID:-//Formación Proalt - ECPv6.2.9//NONSGML v1.0//EN
CALSCALE:GREGORIAN
METHOD:PUBLISH
X-ORIGINAL-URL:https://formacion.proalt.es
X-WR-CALDESC:Eventos para Formación Proalt
REFRESH-INTERVAL;VALUE=DURATION:PT1H
X-Robots-Tag:noindex
X-PUBLISHED-TTL:PT1H
BEGIN:VTIMEZONE
TZID:Europe/Madrid
BEGIN:DAYLIGHT
TZOFFSETFROM:+0100
TZOFFSETTO:+0200
TZNAME:CEST
DTSTART:20250330T010000
END:DAYLIGHT
BEGIN:STANDARD
TZOFFSETFROM:+0200
TZOFFSETTO:+0100
TZNAME:CET
DTSTART:20251026T010000
END:STANDARD
END:VTIMEZONE
BEGIN:VEVENT
DTSTART;TZID=Europe/Madrid:20251127T090000
DTEND;TZID=Europe/Madrid:20251127T170000
DTSTAMP:20260420T233421
CREATED:20250523T084223Z
LAST-MODIFIED:20250923T091410Z
UID:2674-1764234000-1764262800@formacion.proalt.es
SUMMARY:Formación: Seguridad para Trabajos en Altura (Murcia)
DESCRIPTION:Curso de formación de Seguridad para Trabajos en Altura \nDuración: 8 horas \nModalidad: Presencial \nPrograma: Teoría (4h) y Práctica (4h) \nAl finalizar el curso se realiza un examen que acredita el nivel obtenido y se certifica mediante un diploma.
URL:https://formacion.proalt.es/curso/formacion-seguridad-para-trabajos-en-altura-murcia-2-2-3-3/
LOCATION:Proalt Murcia\, Ctra. Mazarrón\, Av. Mercamurcia\, Km. 3\, 1-Nave 13\, 30120 El Palmar\, Murcia\, El Palmar\, Murcia\, 30120
CATEGORIES:Trabajos en Altura
ORGANIZER;CN="Proalt.es":MAILTO:formacion@proalt.es
END:VEVENT
END:VCALENDAR