BEGIN:VCALENDAR
VERSION:2.0
PRODID:-//Formación Proalt - ECPv6.2.9//NONSGML v1.0//EN
CALSCALE:GREGORIAN
METHOD:PUBLISH
X-WR-CALNAME:Formación Proalt
X-ORIGINAL-URL:https://formacion.proalt.es
X-WR-CALDESC:Eventos para Formación Proalt
REFRESH-INTERVAL;VALUE=DURATION:PT1H
X-Robots-Tag:noindex
X-PUBLISHED-TTL:PT1H
BEGIN:VTIMEZONE
TZID:Europe/Madrid
BEGIN:DAYLIGHT
TZOFFSETFROM:+0100
TZOFFSETTO:+0200
TZNAME:CEST
DTSTART:20260329T010000
END:DAYLIGHT
BEGIN:STANDARD
TZOFFSETFROM:+0200
TZOFFSETTO:+0100
TZNAME:CET
DTSTART:20261025T010000
END:STANDARD
END:VTIMEZONE
BEGIN:VEVENT
DTSTART;TZID=Europe/Madrid:20260203T080000
DTEND;TZID=Europe/Madrid:20260203T160000
DTSTAMP:20260420T162739
CREATED:20250310T105705Z
LAST-MODIFIED:20260113T113459Z
UID:2496-1770105600-1770134400@formacion.proalt.es
SUMMARY:Formación: Trabajos en Altura para Técnicos y PRL (Madrid)
DESCRIPTION:Curso de formación en Trabajos en Altura para Técnicos y PRL \nDuración: 8 horas \nModalidad: Presencial \nPrograma: Teoría (4h) y Práctica (4h) \nAl finalizar el curso se realiza un examen que acredita el nivel obtenido y se certifica mediante un diploma.
URL:https://formacion.proalt.es/curso/formacion-trabajos-en-altura-para-tecnicos-y-prl-madrid-2/
LOCATION:Proalt Madrid\, Calle Cerrajeros\, 12\, Villaviciosa de Odón\, Madrid\, 28670\, España
CATEGORIES:Trabajos en Altura
ORGANIZER;CN="Proalt.es":MAILTO:formacion@proalt.es
END:VEVENT
BEGIN:VEVENT
DTSTART;TZID=Europe/Madrid:20260203T080000
DTEND;TZID=Europe/Madrid:20260203T160000
DTSTAMP:20260420T162739
CREATED:20250804T035847Z
LAST-MODIFIED:20260113T113445Z
UID:2918-1770105600-1770134400@formacion.proalt.es
SUMMARY:Formación: Seguridad para Trabajos en Altura (Madrid)
DESCRIPTION:Curso de formación de Seguridad para Trabajos en Altura \nDuración: 8 horas \nModalidad: Presencial \nPrograma: Teoría (4h) y Práctica (4h) \nAl finalizar el curso se realiza un examen que acredita el nivel obtenido y se certifica mediante un diploma.
URL:https://formacion.proalt.es/curso/formacion-seguridad-para-trabajos-en-altura-madrid-2-2-2-2-2-2-2-2-2-4-2-2-2-7/
LOCATION:Proalt Madrid\, Calle Cerrajeros\, 12\, Villaviciosa de Odón\, Madrid\, 28670\, España
CATEGORIES:Trabajos en Altura
ORGANIZER;CN="Proalt.es":MAILTO:formacion@proalt.es
END:VEVENT
BEGIN:VEVENT
DTSTART;TZID=Europe/Madrid:20260211T080000
DTEND;TZID=Europe/Madrid:20260211T160000
DTSTAMP:20260420T162739
CREATED:20250414T052953Z
LAST-MODIFIED:20260113T113700Z
UID:2566-1770796800-1770825600@formacion.proalt.es
SUMMARY:Formación: Trabajos en Altura para Técnicos y PRL (Madrid)
DESCRIPTION:Curso de formación en Trabajos en Altura para Técnicos y PRL \nDuración: 8 horas \nModalidad: Presencial \nPrograma: Teoría (4h) y Práctica (4h) \nAl finalizar el curso se realiza un examen que acredita el nivel obtenido y se certifica mediante un diploma.
URL:https://formacion.proalt.es/curso/formacion-trabajos-en-altura-para-tecnicos-y-prl-madrid-2-2-2/
LOCATION:Proalt Madrid\, Calle Cerrajeros\, 12\, Villaviciosa de Odón\, Madrid\, 28670\, España
CATEGORIES:Trabajos en Altura
ORGANIZER;CN="Proalt.es":MAILTO:formacion@proalt.es
END:VEVENT
BEGIN:VEVENT
DTSTART;TZID=Europe/Madrid:20260211T080000
DTEND;TZID=Europe/Madrid:20260211T160000
DTSTAMP:20260420T162739
CREATED:20250801T110020Z
LAST-MODIFIED:20260113T113651Z
UID:2867-1770796800-1770825600@formacion.proalt.es
SUMMARY:Formación: Seguridad para Trabajos en Altura (Madrid)
DESCRIPTION:Curso de formación de Seguridad para Trabajos en Altura \nDuración: 8 horas \nModalidad: Presencial \nPrograma: Teoría (4h) y Práctica (4h) \nAl finalizar el curso se realiza un examen que acredita el nivel obtenido y se certifica mediante un diploma.
URL:https://formacion.proalt.es/curso/formacion-seguridad-para-trabajos-en-altura-madrid-2-2-2-2-2-2-2-2-2-4-2-2-2-5/
LOCATION:Proalt Madrid\, Calle Cerrajeros\, 12\, Villaviciosa de Odón\, Madrid\, 28670\, España
CATEGORIES:Trabajos en Altura
ORGANIZER;CN="Proalt.es":MAILTO:formacion@proalt.es
END:VEVENT
BEGIN:VEVENT
DTSTART;TZID=Europe/Madrid:20260213T080000
DTEND;TZID=Europe/Madrid:20260213T160000
DTSTAMP:20260420T162739
CREATED:20250217T062921Z
LAST-MODIFIED:20260113T113753Z
UID:2451-1770969600-1770998400@formacion.proalt.es
SUMMARY:Formación: Seguridad para Trabajos en Altura (Murcia)
DESCRIPTION:Curso de formación de Seguridad para Trabajos en Altura \nDuración: 8 horas \nModalidad: Presencial \nPrograma: Teoría (4h) y Práctica (4h) \nAl finalizar el curso se realiza un examen que acredita el nivel obtenido y se certifica mediante un diploma.
URL:https://formacion.proalt.es/curso/formacion-seguridad-para-trabajos-en-altura-murcia-2/
LOCATION:Proalt Murcia\, Ctra. Mazarrón\, Av. Mercamurcia\, Km. 3\, 1-Nave 13\, 30120 El Palmar\, Murcia\, El Palmar\, Murcia\, 30120
CATEGORIES:Trabajos en Altura
ORGANIZER;CN="Proalt.es":MAILTO:formacion@proalt.es
END:VEVENT
BEGIN:VEVENT
DTSTART;TZID=Europe/Madrid:20260213T080000
DTEND;TZID=Europe/Madrid:20260213T160000
DTSTAMP:20260420T162739
CREATED:20250523T080840Z
LAST-MODIFIED:20260113T113805Z
UID:2632-1770969600-1770998400@formacion.proalt.es
SUMMARY:Formación: Trabajos en Altura para Técnicos y PRL (Murcia)
DESCRIPTION:Curso de formación en Trabajos en Altura para Técnicos y PRL \nDuración: 8 horas \nModalidad: Presencial \nPrograma: Teoría (4h) y Práctica (4h) \nAl finalizar el curso se realiza un examen que acredita el nivel obtenido y se certifica mediante un diploma.
URL:https://formacion.proalt.es/curso/formacion-trabajos-en-altura-para-tecnicos-y-prl-murcia-2-2-2-2-2/
LOCATION:Proalt Murcia\, Ctra. Mazarrón\, Av. Mercamurcia\, Km. 3\, 1-Nave 13\, 30120 El Palmar\, Murcia\, El Palmar\, Murcia\, 30120
CATEGORIES:Trabajos en Altura
ORGANIZER;CN="Proalt.es":MAILTO:formacion@proalt.es
END:VEVENT
BEGIN:VEVENT
DTSTART;TZID=Europe/Madrid:20260217T080000
DTEND;TZID=Europe/Madrid:20260217T160000
DTSTAMP:20260420T162739
CREATED:20250217T063139Z
LAST-MODIFIED:20260113T113555Z
UID:2458-1771315200-1771344000@formacion.proalt.es
SUMMARY:Formación: Seguridad para Trabajos en Altura (Madrid)
DESCRIPTION:Curso de formación de Seguridad para Trabajos en Altura \nDuración: 8 horas \nModalidad: Presencial \nPrograma: Teoría (4h) y Práctica (4h) \nAl finalizar el curso se realiza un examen que acredita el nivel obtenido y se certifica mediante un diploma.
URL:https://formacion.proalt.es/curso/formacion-seguridad-para-trabajos-en-altura-madrid-2-2-2-2-2-2-2-2-2-4-2-2/
LOCATION:Proalt Madrid\, Calle Cerrajeros\, 12\, Villaviciosa de Odón\, Madrid\, 28670\, España
CATEGORIES:Trabajos en Altura
ORGANIZER;CN="Proalt.es":MAILTO:formacion@proalt.es
END:VEVENT
BEGIN:VEVENT
DTSTART;TZID=Europe/Madrid:20260217T080000
DTEND;TZID=Europe/Madrid:20260217T160000
DTSTAMP:20260420T162739
CREATED:20250310T110449Z
LAST-MODIFIED:20260113T113604Z
UID:2526-1771315200-1771344000@formacion.proalt.es
SUMMARY:Formación: Trabajos en Altura para Técnicos y PRL (Madrid)
DESCRIPTION:Curso de formación en Trabajos en Altura para Técnicos y PRL \nDuración: 8 horas \nModalidad: Presencial \nPrograma: Teoría (4h) y Práctica (4h) \nAl finalizar el curso se realiza un examen que acredita el nivel obtenido y se certifica mediante un diploma.
URL:https://formacion.proalt.es/curso/formacion-trabajos-en-altura-para-tecnicos-y-prl-madrid-2-2/
LOCATION:Proalt Madrid\, Calle Cerrajeros\, 12\, Villaviciosa de Odón\, Madrid\, 28670\, España
CATEGORIES:Trabajos en Altura
ORGANIZER;CN="Proalt.es":MAILTO:formacion@proalt.es
END:VEVENT
END:VCALENDAR