BEGIN:VCALENDAR
VERSION:2.0
PRODID:-//Formación Proalt - ECPv6.2.9//NONSGML v1.0//EN
CALSCALE:GREGORIAN
METHOD:PUBLISH
X-WR-CALNAME:Formación Proalt
X-ORIGINAL-URL:https://formacion.proalt.es
X-WR-CALDESC:Eventos para Formación Proalt
REFRESH-INTERVAL;VALUE=DURATION:PT1H
X-Robots-Tag:noindex
X-PUBLISHED-TTL:PT1H
BEGIN:VTIMEZONE
TZID:Europe/Madrid
BEGIN:DAYLIGHT
TZOFFSETFROM:+0100
TZOFFSETTO:+0200
TZNAME:CEST
DTSTART:20260329T010000
END:DAYLIGHT
BEGIN:STANDARD
TZOFFSETFROM:+0200
TZOFFSETTO:+0100
TZNAME:CET
DTSTART:20261025T010000
END:STANDARD
END:VTIMEZONE
BEGIN:VEVENT
DTSTART;TZID=Europe/Madrid:20260114T080000
DTEND;TZID=Europe/Madrid:20260114T160000
DTSTAMP:20260420T181229
CREATED:20250523T084638Z
LAST-MODIFIED:20260113T114207Z
UID:2680-1768377600-1768406400@formacion.proalt.es
SUMMARY:Formación: Seguridad para Trabajos en Altura (Madrid)
DESCRIPTION:Curso de formación de Seguridad para Trabajos en Altura \nDuración: 8 horas \nModalidad: Presencial \nPrograma: Teoría (4h) y Práctica (4h) \nAl finalizar el curso se realiza un examen que acredita el nivel obtenido y se certifica mediante un diploma.
URL:https://formacion.proalt.es/curso/formacion-seguridad-para-trabajos-en-altura-madrid-2-2-2-2-2-2-2-2-2-4-2-2-2-4/
LOCATION:Proalt Madrid\, Calle Cerrajeros\, 12\, Villaviciosa de Odón\, Madrid\, 28670\, España
CATEGORIES:Trabajos en Altura
ORGANIZER;CN="Proalt.es":MAILTO:formacion@proalt.es
END:VEVENT
BEGIN:VEVENT
DTSTART;TZID=Europe/Madrid:20260114T080000
DTEND;TZID=Europe/Madrid:20260114T160000
DTSTAMP:20260420T181229
CREATED:20250801T110126Z
LAST-MODIFIED:20260113T114158Z
UID:2870-1768377600-1768406400@formacion.proalt.es
SUMMARY:Formación: Trabajos en Altura para Técnicos y PRL (Madrid)
DESCRIPTION:Curso de formación en Trabajos en Altura para Técnicos y PRL \nDuración: 8 horas \nModalidad: Presencial \nPrograma: Teoría (4h) y Práctica (4h) \nAl finalizar el curso se realiza un examen que acredita el nivel obtenido y se certifica mediante un diploma.
URL:https://formacion.proalt.es/curso/formacion-trabajos-en-altura-para-tecnicos-y-prl-madrid-2-2-2-3/
LOCATION:Proalt Madrid\, Calle Cerrajeros\, 12\, Villaviciosa de Odón\, Madrid\, 28670\, España
CATEGORIES:Trabajos en Altura
ORGANIZER;CN="Proalt.es":MAILTO:formacion@proalt.es
END:VEVENT
BEGIN:VEVENT
DTSTART;TZID=Europe/Madrid:20260116T080000
DTEND;TZID=Europe/Madrid:20260116T160000
DTSTAMP:20260420T181229
CREATED:20250523T074717Z
LAST-MODIFIED:20260113T114225Z
UID:2618-1768550400-1768579200@formacion.proalt.es
SUMMARY:Formación: Trabajos en Altura para Técnicos y PRL (Murcia)
DESCRIPTION:Curso de formación en Trabajos en Altura para Técnicos y PRL \nDuración: 8 horas \nModalidad: Presencial \nPrograma: Teoría (4h) y Práctica (4h) \nAl finalizar el curso se realiza un examen que acredita el nivel obtenido y se certifica mediante un diploma.
URL:https://formacion.proalt.es/curso/formacion-trabajos-en-altura-para-tecnicos-y-prl-murcia-2-2-2-2/
LOCATION:Proalt Murcia\, Ctra. Mazarrón\, Av. Mercamurcia\, Km. 3\, 1-Nave 13\, 30120 El Palmar\, Murcia\, El Palmar\, Murcia\, 30120
CATEGORIES:Trabajos en Altura
ORGANIZER;CN="Proalt.es":MAILTO:formacion@proalt.es
END:VEVENT
BEGIN:VEVENT
DTSTART;TZID=Europe/Madrid:20260120T080000
DTEND;TZID=Europe/Madrid:20260120T160000
DTSTAMP:20260420T181229
CREATED:20250523T081317Z
LAST-MODIFIED:20260113T114043Z
UID:2638-1768896000-1768924800@formacion.proalt.es
SUMMARY:Formación: Seguridad para Trabajos en Altura (Madrid)
DESCRIPTION:Curso de formación de Seguridad para Trabajos en Altura \nDuración: 8 horas \nModalidad: Presencial \nPrograma: Teoría (4h) y Práctica (4h) \nAl finalizar el curso se realiza un examen que acredita el nivel obtenido y se certifica mediante un diploma.
URL:https://formacion.proalt.es/curso/formacion-seguridad-para-trabajos-en-altura-madrid-2-2-2-2-2-2-2-2-2-4-2-2-2-2/
LOCATION:Proalt Madrid\, Calle Cerrajeros\, 12\, Villaviciosa de Odón\, Madrid\, 28670\, España
CATEGORIES:Trabajos en Altura
ORGANIZER;CN="Proalt.es":MAILTO:formacion@proalt.es
END:VEVENT
BEGIN:VEVENT
DTSTART;TZID=Europe/Madrid:20260120T080000
DTEND;TZID=Europe/Madrid:20260120T160000
DTSTAMP:20260420T181229
CREATED:20250523T082341Z
LAST-MODIFIED:20260113T114053Z
UID:2653-1768896000-1768924800@formacion.proalt.es
SUMMARY:Formación: Trabajos en Altura para Técnicos y PRL (Madrid)
DESCRIPTION:Curso de formación en Trabajos en Altura para Técnicos y PRL \nDuración: 8 horas \nModalidad: Presencial \nPrograma: Teoría (4h) y Práctica (4h) \nAl finalizar el curso se realiza un examen que acredita el nivel obtenido y se certifica mediante un diploma.
URL:https://formacion.proalt.es/curso/formacion-trabajos-en-altura-para-tecnicos-y-prl-madrid-2-2-3/
LOCATION:Proalt Madrid\, Calle Cerrajeros\, 12\, Villaviciosa de Odón\, Madrid\, 28670\, España
CATEGORIES:Trabajos en Altura
ORGANIZER;CN="Proalt.es":MAILTO:formacion@proalt.es
END:VEVENT
BEGIN:VEVENT
DTSTART;TZID=Europe/Madrid:20260128T080000
DTEND;TZID=Europe/Madrid:20260128T160000
DTSTAMP:20260420T181229
CREATED:20250523T082515Z
LAST-MODIFIED:20260113T113613Z
UID:2656-1769587200-1769616000@formacion.proalt.es
SUMMARY:Formación: Trabajos en Altura para Técnicos y PRL (Madrid)
DESCRIPTION:Curso de formación en Trabajos en Altura para Técnicos y PRL \nDuración: 8 horas \nModalidad: Presencial \nPrograma: Teoría (4h) y Práctica (4h) \nAl finalizar el curso se realiza un examen que acredita el nivel obtenido y se certifica mediante un diploma.
URL:https://formacion.proalt.es/curso/formacion-trabajos-en-altura-para-tecnicos-y-prl-madrid-2-2-4/
LOCATION:Proalt Madrid\, Calle Cerrajeros\, 12\, Villaviciosa de Odón\, Madrid\, 28670\, España
CATEGORIES:Trabajos en Altura
ORGANIZER;CN="Proalt.es":MAILTO:formacion@proalt.es
END:VEVENT
BEGIN:VEVENT
DTSTART;TZID=Europe/Madrid:20260128T080000
DTEND;TZID=Europe/Madrid:20260128T160000
DTSTAMP:20260420T181229
CREATED:20250801T110036Z
LAST-MODIFIED:20260113T113623Z
UID:2868-1769587200-1769616000@formacion.proalt.es
SUMMARY:Formación: Seguridad para Trabajos en Altura (Madrid)
DESCRIPTION:Curso de formación de Seguridad para Trabajos en Altura \nDuración: 8 horas \nModalidad: Presencial \nPrograma: Teoría (4h) y Práctica (4h) \nAl finalizar el curso se realiza un examen que acredita el nivel obtenido y se certifica mediante un diploma.
URL:https://formacion.proalt.es/curso/formacion-seguridad-para-trabajos-en-altura-madrid-2-2-2-2-2-2-2-2-2-4-2-2-2-6/
LOCATION:Proalt Madrid\, Calle Cerrajeros\, 12\, Villaviciosa de Odón\, Madrid\, 28670\, España
CATEGORIES:Trabajos en Altura
ORGANIZER;CN="Proalt.es":MAILTO:formacion@proalt.es
END:VEVENT
BEGIN:VEVENT
DTSTART;TZID=Europe/Madrid:20260130T080000
DTEND;TZID=Europe/Madrid:20260130T160000
DTSTAMP:20260420T181229
CREATED:20250310T110333Z
LAST-MODIFIED:20260113T113837Z
UID:2520-1769760000-1769788800@formacion.proalt.es
SUMMARY:Formación: Seguridad para Trabajos en Altura (Murcia)
DESCRIPTION:Curso de formación de Seguridad para Trabajos en Altura \nDuración: 8 horas \nModalidad: Presencial \nPrograma: Teoría (4h) y Práctica (4h) \nAl finalizar el curso se realiza un examen que acredita el nivel obtenido y se certifica mediante un diploma.
URL:https://formacion.proalt.es/curso/formacion-seguridad-para-trabajos-en-altura-murcia-2-2-2/
LOCATION:Proalt Murcia\, Ctra. Mazarrón\, Av. Mercamurcia\, Km. 3\, 1-Nave 13\, 30120 El Palmar\, Murcia\, El Palmar\, Murcia\, 30120
CATEGORIES:Trabajos en Altura
ORGANIZER;CN="Proalt.es":MAILTO:formacion@proalt.es
END:VEVENT
BEGIN:VEVENT
DTSTART;TZID=Europe/Madrid:20260130T080000
DTEND;TZID=Europe/Madrid:20260130T160000
DTSTAMP:20260420T181229
CREATED:20250923T090855Z
LAST-MODIFIED:20260113T113848Z
UID:3047-1769760000-1769788800@formacion.proalt.es
SUMMARY:Formación: Trabajos en Altura para Técnicos y PRL (Murcia)
DESCRIPTION:Curso de formación en Trabajos en Altura para Técnicos y PRL \nDuración: 8 horas \nModalidad: Presencial \nPrograma: Teoría (4h) y Práctica (4h) \nAl finalizar el curso se realiza un examen que acredita el nivel obtenido y se certifica mediante un diploma.
URL:https://formacion.proalt.es/curso/formacion-trabajos-en-altura-para-tecnicos-y-prl-murcia-2-3/
LOCATION:Proalt Murcia\, Ctra. Mazarrón\, Av. Mercamurcia\, Km. 3\, 1-Nave 13\, 30120 El Palmar\, Murcia\, El Palmar\, Murcia\, 30120
CATEGORIES:Trabajos en Altura
ORGANIZER;CN="Proalt.es":MAILTO:formacion@proalt.es
END:VEVENT
END:VCALENDAR