BEGIN:VCALENDAR
VERSION:2.0
PRODID:-//Formación Proalt - ECPv6.2.9//NONSGML v1.0//EN
CALSCALE:GREGORIAN
METHOD:PUBLISH
X-WR-CALNAME:Formación Proalt
X-ORIGINAL-URL:https://formacion.proalt.es
X-WR-CALDESC:Eventos para Formación Proalt
REFRESH-INTERVAL;VALUE=DURATION:PT1H
X-Robots-Tag:noindex
X-PUBLISHED-TTL:PT1H
BEGIN:VTIMEZONE
TZID:Europe/Madrid
BEGIN:DAYLIGHT
TZOFFSETFROM:+0100
TZOFFSETTO:+0200
TZNAME:CEST
DTSTART:20260329T010000
END:DAYLIGHT
BEGIN:STANDARD
TZOFFSETFROM:+0200
TZOFFSETTO:+0100
TZNAME:CET
DTSTART:20261025T010000
END:STANDARD
END:VTIMEZONE
BEGIN:VEVENT
DTSTART;TZID=Europe/Madrid:20260430T080000
DTEND;TZID=Europe/Madrid:20260430T160000
DTSTAMP:20260420T130032
CREATED:20260317T084638Z
LAST-MODIFIED:20260317T084638Z
UID:3342-1777536000-1777564800@formacion.proalt.es
SUMMARY:Formación: Rescate en Trabajos en Altura (Murcia)
DESCRIPTION:Curso de formación de Rescate en Trabajos en Altura \nDuración: 8 horas \nModalidad: Presencial \nPrograma: Teoría (3h) y Práctica (5h) \nAl finalizar el curso se realiza un examen que acredita el nivel obtenido y se certifica mediante un diploma.
URL:https://formacion.proalt.es/curso/formacion-rescate-en-trabajos-en-altura-murcia-2-2-2-2/
LOCATION:Proalt Murcia\, Ctra. Mazarrón\, Av. Mercamurcia\, Km. 3\, 1-Nave 13\, 30120 El Palmar\, Murcia\, El Palmar\, Murcia\, 30120
CATEGORIES:Rescate
ORGANIZER;CN="Proalt.es":MAILTO:formacion@proalt.es
END:VEVENT
END:VCALENDAR