BEGIN:VCALENDAR
VERSION:2.0
PRODID:-//Formación Proalt - ECPv6.2.9//NONSGML v1.0//EN
CALSCALE:GREGORIAN
METHOD:PUBLISH
X-WR-CALNAME:Formación Proalt
X-ORIGINAL-URL:https://formacion.proalt.es
X-WR-CALDESC:Eventos para Formación Proalt
REFRESH-INTERVAL;VALUE=DURATION:PT1H
X-Robots-Tag:noindex
X-PUBLISHED-TTL:PT1H
BEGIN:VTIMEZONE
TZID:Europe/Madrid
BEGIN:DAYLIGHT
TZOFFSETFROM:+0100
TZOFFSETTO:+0200
TZNAME:CEST
DTSTART:20260329T010000
END:DAYLIGHT
BEGIN:STANDARD
TZOFFSETFROM:+0200
TZOFFSETTO:+0100
TZNAME:CET
DTSTART:20261025T010000
END:STANDARD
END:VTIMEZONE
BEGIN:VEVENT
DTSTART;TZID=Europe/Madrid:20260421T080000
DTEND;TZID=Europe/Madrid:20260421T160000
DTSTAMP:20260421T013631
CREATED:20260317T083040Z
LAST-MODIFIED:20260317T083040Z
UID:3304-1776758400-1776787200@formacion.proalt.es
SUMMARY:Formación: Seguridad en Espacios Confinados (Madrid)
DESCRIPTION:Curso de Seguridad en Espacios Confinados \nDuración: 8 horas \nModalidad: Presencial \nPrograma: Teoría (3h) y Práctica (5h) \nAl finalizar el curso se realiza un examen que acredita el nivel obtenido y se certifica mediante un diploma.
URL:https://formacion.proalt.es/curso/formacion-seguridad-en-espacios-confinados-madrid-2-4-2-2/
LOCATION:Proalt Madrid\, Calle Cerrajeros\, 12\, Villaviciosa de Odón\, Madrid\, 28670\, España
CATEGORIES:Espacios Confinados
ORGANIZER;CN="Proalt.es":MAILTO:formacion@proalt.es
END:VEVENT
BEGIN:VEVENT
DTSTART;TZID=Europe/Madrid:20260421T080000
DTEND;TZID=Europe/Madrid:20260421T160000
DTSTAMP:20260421T013631
CREATED:20260317T083145Z
LAST-MODIFIED:20260317T083145Z
UID:3307-1776758400-1776787200@formacion.proalt.es
SUMMARY:Formación: Rescate en Trabajos en Altura (Madrid)
DESCRIPTION:Curso de formación de Rescate en Trabajos en Altura \nDuración: 8 horas \nModalidad: Presencial \nPrograma: Teoría (3h) y Práctica (5h) \nAl finalizar el curso se realiza un examen que acredita el nivel obtenido y se certifica mediante un diploma.
URL:https://formacion.proalt.es/curso/formacion-rescate-en-trabajos-en-altura-madrid-2-2-2-3-2-2-2-2-2-2-2-2-6-2-2/
LOCATION:Proalt Madrid\, Calle Cerrajeros\, 12\, Villaviciosa de Odón\, Madrid\, 28670\, España
CATEGORIES:Rescate
ORGANIZER;CN="Proalt.es":MAILTO:formacion@proalt.es
END:VEVENT
END:VCALENDAR